BEGIN:VCALENDAR
VERSION:2.0
PRODID:-//EVENT REGISTRATION - ECPv6.15.17//NONSGML v1.0//EN
CALSCALE:GREGORIAN
METHOD:PUBLISH
X-ORIGINAL-URL:https://events.hnescouting.org
X-WR-CALDESC:Events for EVENT REGISTRATION
REFRESH-INTERVAL;VALUE=DURATION:PT1H
X-Robots-Tag:noindex
X-PUBLISHED-TTL:PT1H
BEGIN:VTIMEZONE
TZID:America/New_York
BEGIN:DAYLIGHT
TZOFFSETFROM:-0500
TZOFFSETTO:-0400
TZNAME:EDT
DTSTART:20240310T070000
END:DAYLIGHT
BEGIN:STANDARD
TZOFFSETFROM:-0400
TZOFFSETTO:-0500
TZNAME:EST
DTSTART:20241103T060000
END:STANDARD
BEGIN:DAYLIGHT
TZOFFSETFROM:-0500
TZOFFSETTO:-0400
TZNAME:EDT
DTSTART:20250309T070000
END:DAYLIGHT
BEGIN:STANDARD
TZOFFSETFROM:-0400
TZOFFSETTO:-0500
TZNAME:EST
DTSTART:20251102T060000
END:STANDARD
BEGIN:DAYLIGHT
TZOFFSETFROM:-0500
TZOFFSETTO:-0400
TZNAME:EDT
DTSTART:20260308T070000
END:DAYLIGHT
BEGIN:STANDARD
TZOFFSETFROM:-0400
TZOFFSETTO:-0500
TZNAME:EST
DTSTART:20261101T060000
END:STANDARD
END:VTIMEZONE
BEGIN:VEVENT
DTSTART;TZID=America/New_York:20250704T130000
DTEND;TZID=America/New_York:20250704T170000
DTSTAMP:20260420T044852
CREATED:20250625T190205Z
LAST-MODIFIED:20250625T193543Z
UID:10002864-1751634000-1751648400@events.hnescouting.org
SUMMARY:Rutland July 4th Parade
DESCRIPTION:Join us for the 77th ANNUAL PARADE where Heart of New England Council will be the Grand Marshals\n(Yes\, plural. We need you!)\n \n\n\nJoin us\, in uniform\, as we march through town and represent Scouting.\nNaquag Elementary School at 1:00PM. Parade starts at 2:00.\n \nThis year’s theme\, “It’s Out of This World!” celebrates exploration\, imagination\, and the extraordinary spirit that lives right here in our community. \nInstructions for Parade Participation \nJoin us for a stellar celebration filled with cosmic creativity\, community pride\, and hometown fun. Parade floats will launch imaginations into orbit with rockets\, stars\, and tributes to our own everyday heroes who go to infinity and beyond and make this town shine. \nMark your calendars and prepare for lift off — Rutland’s 4th of July is truly going to be out of this world! \nGRAND MARSHALSHeart of New England Council\, Scouting America (Treasure Valley Scout Reservation) \nWe’re thrilled to honor our 2025 Grand Marshals from Heart of New England Council\, Scouting America (Treasure Valley) — young leaders who embody the values of service\, adventure\, and leadership. Like space explorers who boldly venture into the unknown\, these Scouts demonstrate curiosity\, courage\, and a commitment to making the world around them better. \nTheir energy and dedication remind us that greatness doesn’t just exist in distant galaxies — it thrives right here in the Town of Rutland\, and has for the past 100 years.
URL:https://events.hnescouting.org/event/rutland-july-4th-parade/
LOCATION:Center of Rutland\, Rutland\, MA\, United States
ORGANIZER;CN="Bill Dunbar":MAILTO:bill.dunbar@scouting.org
END:VEVENT
END:VCALENDAR