BEGIN:VCALENDAR
VERSION:2.0
PRODID:-//EVENT REGISTRATION - ECPv6.15.17//NONSGML v1.0//EN
CALSCALE:GREGORIAN
METHOD:PUBLISH
X-ORIGINAL-URL:https://events.hnescouting.org
X-WR-CALDESC:Events for EVENT REGISTRATION
REFRESH-INTERVAL;VALUE=DURATION:PT1H
X-Robots-Tag:noindex
X-PUBLISHED-TTL:PT1H
BEGIN:VTIMEZONE
TZID:America/New_York
BEGIN:DAYLIGHT
TZOFFSETFROM:-0500
TZOFFSETTO:-0400
TZNAME:EDT
DTSTART:20250309T070000
END:DAYLIGHT
BEGIN:STANDARD
TZOFFSETFROM:-0400
TZOFFSETTO:-0500
TZNAME:EST
DTSTART:20251102T060000
END:STANDARD
BEGIN:DAYLIGHT
TZOFFSETFROM:-0500
TZOFFSETTO:-0400
TZNAME:EDT
DTSTART:20260308T070000
END:DAYLIGHT
BEGIN:STANDARD
TZOFFSETFROM:-0400
TZOFFSETTO:-0500
TZNAME:EST
DTSTART:20261101T060000
END:STANDARD
BEGIN:DAYLIGHT
TZOFFSETFROM:-0500
TZOFFSETTO:-0400
TZNAME:EDT
DTSTART:20270314T070000
END:DAYLIGHT
BEGIN:STANDARD
TZOFFSETFROM:-0400
TZOFFSETTO:-0500
TZNAME:EST
DTSTART:20271107T060000
END:STANDARD
END:VTIMEZONE
BEGIN:VEVENT
DTSTART;TZID=America/New_York:20260521T173000
DTEND;TZID=America/New_York:20260521T200000
DTSTAMP:20260422T041819
CREATED:20250819T170906Z
LAST-MODIFIED:20260330T155715Z
UID:10002894-1779384600-1779393600@events.hnescouting.org
SUMMARY:Annual Meeting and Awards Dinner 2026
DESCRIPTION:Annual Meeting & Awards Dinner\nPlease join us for Heart of New England Council Annual Meeting and Awards Dinner this Thursday\, May 21\, 2026 as we honor our Silver Beaver\, District Award of Merit and Kente Cloth recipients. \nLOCATION:  The Manor\, 42 W Boylston St\, West Boylston\, MA 01583 \nTIME: 5:30PM Annual Meeting / 6:30PM Dinner and Awards Program (doors open at 6:00PM for fellowship before the Awards Program) \nATTIRE: Business casual attire\, no uniforms please \nPARKING: There will be plenty of parking available upon entrance to the venue. \nCOST: $50 per person \nREGISTRATION CLOSES ON 5/9 to send final number to the venue.  \nUpdated 3/26/26 \n  \n\n 
URL:https://events.hnescouting.org/event/annual-meeting-awards-dinner-2026/
LOCATION:The Manor Banquet Facility\, 42 West Boylston St.\, West Boylston\, MA\, 01583\, United States
CATEGORIES:Hidden From Calendar
ORGANIZER;CN="Andrew Collins":MAILTO:andrew.collins@heartofnewenglandbsa.org
END:VEVENT
END:VCALENDAR