BEGIN:VCALENDAR
VERSION:2.0
PRODID:-//EVENT REGISTRATION - ECPv6.15.17//NONSGML v1.0//EN
CALSCALE:GREGORIAN
METHOD:PUBLISH
X-ORIGINAL-URL:https://events.hnescouting.org
X-WR-CALDESC:Events for EVENT REGISTRATION
REFRESH-INTERVAL;VALUE=DURATION:PT1H
X-Robots-Tag:noindex
X-PUBLISHED-TTL:PT1H
BEGIN:VTIMEZONE
TZID:America/New_York
BEGIN:DAYLIGHT
TZOFFSETFROM:-0500
TZOFFSETTO:-0400
TZNAME:EDT
DTSTART:20250309T070000
END:DAYLIGHT
BEGIN:STANDARD
TZOFFSETFROM:-0400
TZOFFSETTO:-0500
TZNAME:EST
DTSTART:20251102T060000
END:STANDARD
BEGIN:DAYLIGHT
TZOFFSETFROM:-0500
TZOFFSETTO:-0400
TZNAME:EDT
DTSTART:20260308T070000
END:DAYLIGHT
BEGIN:STANDARD
TZOFFSETFROM:-0400
TZOFFSETTO:-0500
TZNAME:EST
DTSTART:20261101T060000
END:STANDARD
BEGIN:DAYLIGHT
TZOFFSETFROM:-0500
TZOFFSETTO:-0400
TZNAME:EDT
DTSTART:20270314T070000
END:DAYLIGHT
BEGIN:STANDARD
TZOFFSETFROM:-0400
TZOFFSETTO:-0500
TZNAME:EST
DTSTART:20271107T060000
END:STANDARD
END:VTIMEZONE
BEGIN:VEVENT
DTSTART;TZID=America/New_York:20260201T080000
DTEND;TZID=America/New_York:20260201T120000
DTSTAMP:20260419T105833
CREATED:20260128T152039Z
LAST-MODIFIED:20260128T152426Z
UID:10002922-1769932800-1769947200@events.hnescouting.org
SUMMARY:Range Master Training
DESCRIPTION:Where: Harvard Sportsman’s Club \nTime: 8:00am – 12:00pm \nCost \n  \n  \nTim Bradbury – tim.bradbury@hnescouting.org \nUpdated 12/12/2025
URL:https://events.hnescouting.org/event/range-master-training/
LOCATION:MA
ORGANIZER;CN="Tim Bradbury":MAILTO:tpbradbury@verizon.net
END:VEVENT
BEGIN:VEVENT
DTSTART;TZID=America/New_York:20260201T150500
DTEND;TZID=America/New_York:20260201T150500
DTSTAMP:20260419T105833
CREATED:20251119T201602Z
LAST-MODIFIED:20251119T201602Z
UID:10002927-1769958300-1769958300@events.hnescouting.org
SUMMARY:Scout Day (& Star Wars Day) at the Worcester Railers
DESCRIPTION:WHERE: DCU Center\nWHEN: February 1st @ 3:05pm\nScouts will receive a Railers patch\, a hat\, and early access to take pictures with the Star Wars characters. \nTickets must be purchased through the QR code on the EVENT FLYER.
URL:https://events.hnescouting.org/event/scout-day-star-wars-day-at-the-worcester-railers/
LOCATION:DCU Center\, 50 Foster St\, Worcester\, MA\, 01608\, United States
GEO:42.264911;-71.801535
X-APPLE-STRUCTURED-LOCATION;VALUE=URI;X-ADDRESS=DCU Center 50 Foster St Worcester MA 01608 United States;X-APPLE-RADIUS=500;X-TITLE=50 Foster St:geo:-71.801535,42.264911
END:VEVENT
BEGIN:VEVENT
DTSTART;TZID=America/New_York:20260202T190000
DTEND;TZID=America/New_York:20260202T203000
DTSTAMP:20260419T105833
CREATED:20260109T194804Z
LAST-MODIFIED:20260109T205147Z
UID:10002943-1770058800-1770064200@events.hnescouting.org
SUMMARY:Treasure Valley 100th Birthday Celebration
DESCRIPTION:Virtual Celebration Event\nTreasure Valley Scout Reservation is turning 100\, and you are invited to join alumni\, Scouts\, leaders\, families\, and friends from across the country for a special online celebration honoring a century of adventure\, service\, and unforgettable memories. \nThis virtual event brings the entire Treasure Valley community together\, no matter where you live. Enjoy stories from the past\, highlights from the 100th Anniversary projects\, messages from Scouting leaders\, and a look ahead to the next century at our beloved camp. \nTIME: 7:00 – 8:30 PM ET \nWHERE: Streaming on a virtual Meeting Platform \nRSVP HERE: Treasure Valley Alumni Association – TVSR’s 100th Birthday Virtual Celebration \nThis virtual celebration is open to everyone who has a connection to Treasure Valley. Please share the event with fellow alumni\, friends\, staff\, and Scouting families so we can honor the past and look toward the next hundred years together. \nWe look forward to celebrating with you. \nTreasure Valley Scout Reservation Alumni Association100 Years of Adventure\, Leadership\, and Memories \n\n1/9/26
URL:https://events.hnescouting.org/event/treasure-valley-100th-birthday-celebration/
LOCATION:Online
ORGANIZER;CN="Aaron Langlois":MAILTO:aaron.langlois@heartofnewenglandbsa.org
END:VEVENT
BEGIN:VEVENT
DTSTART;TZID=America/New_York:20260209T190000
DTEND;TZID=America/New_York:20260209T203000
DTSTAMP:20260419T105833
CREATED:20250929T153751Z
LAST-MODIFIED:20250929T153751Z
UID:10002906-1770663600-1770669000@events.hnescouting.org
SUMMARY:Quinapoxet District Roundtable - February 2026
DESCRIPTION:February Roundtable Topic: Welcoming and Engaging Families\n\nJoin us for the Quinapoxet District Roundtable: Monday\, February 9th from 7:00 – 8:30 PM.\nLocation is St. Andrews Church (7 Faulkner St.\, Ayer\, MA). \nThe Quinapoxet District Roundtable will usually take place monthly\, except for the months of the quarterly Council-Wide Roundtable (October\, January\, April\, June).\nBe sure to check the council calendar for exact date and location of each monthly Roundtable event. \nJoin your fellow Scouters and learn about all the new adventures your unit can plan for your Scouts! \nUpdated 09/29/2025
URL:https://events.hnescouting.org/event/quinapoxet-district-roundtable-february-2026/
LOCATION:St. Andrews Church\, 7 Faulker Street\, Ayer\, MA\, 01432\, United States
CATEGORIES:Quinapoxet District
ORGANIZER;CN="Jeff Mayes":MAILTO:jeffrey.mayes@heartofnewenglandbsa.org
END:VEVENT
BEGIN:VEVENT
DTSTART;TZID=America/New_York:20260211T190000
DTEND;TZID=America/New_York:20260211T200000
DTSTAMP:20260419T105833
CREATED:20260205T212106Z
LAST-MODIFIED:20260210T012703Z
UID:10002964-1770836400-1770840000@events.hnescouting.org
SUMMARY:2026 Treasure Valley Summer Program Kick Off
DESCRIPTION:Join the Camp Administration for the annual Camp Kick off on February 11th from 7-8pm!\nMeet the adminstration and see all that’s new at Treasure Valley in 2026. \nRSVP below and the zoom link will be sent out to you prior to the start of the event. \nUpdated 2/9/26 \n 
URL:https://events.hnescouting.org/event/2026-treasure-valley-summer-program-kick-off/
LOCATION:Virtual
ATTACH;FMTTYPE=image/png:https://events.hnescouting.org/wp-content/uploads/2022/01/tvsr-e1671658790596.png
END:VEVENT
BEGIN:VEVENT
DTSTART;TZID=America/New_York:20260212T193000
DTEND;TZID=America/New_York:20260212T203000
DTSTAMP:20260419T105833
CREATED:20260205T205624Z
LAST-MODIFIED:20260205T205624Z
UID:10002963-1770924600-1770928200@events.hnescouting.org
SUMMARY:2026 Camp Wanocksett Summer Program Kick Off
DESCRIPTION:The full details of the event that have been communicated to unit leaders can be found at \nhttps://docs.google.com/document/d/1J04zg-89WT9vTLY-OxGW2X05BfShXVF5CW8MZi4DCMk/edit?usp=sharing \nRegistration is taking place at \nhttps://events.zoom.us/ev/AuHrF-yTwpD4TleJ-SvHw3ozECM9By9owVvOyzO1QyYGtUgMLP7E~Al3d6v0ABTFMpJS6pXJNmMTqPr4_sXFV3_Sb-7Pz36pD4BZdsKCmy_iV5Q.
URL:https://events.hnescouting.org/event/2026-camp-wanocksett-summer-program-kick-off/
LOCATION:MA
END:VEVENT
BEGIN:VEVENT
DTSTART;TZID=America/New_York:20260221T073000
DTEND;TZID=America/New_York:20260221T170000
DTSTAMP:20260419T105833
CREATED:20250902T164621Z
LAST-MODIFIED:20260205T214810Z
UID:10002897-1771659000-1771693200@events.hnescouting.org
SUMMARY:Soaring Eagle District Klondike Derby
DESCRIPTION:🥶 Gear Up for Adventure at the Soaring Eagle Klondike Derby! 🦅 \nCalling all Scouts! Are you ready to test your skills\, teamwork\, and grit in the frosty wilderness? The Soaring Eagle Klondike Derby is your chance to brave the cold\, conquer challenges\, and earn bragging rights in a day packed with Scout spirit and outdoor fun. \nInspired by the legendary Klondike Gold Rush\, this winter event features patrol-based competitions in fire building\, first aid\, sled racing\, and more—all designed to sharpen your Scout skills and leadership. Whether you’re hauling your homemade sled or navigating icy trails\, you’ll be part of a tradition that celebrates resilience\, resourcefulness\, and camaraderie. \nDon’t miss this unforgettable winter adventure. Bundle up\, bring your patrol\, and soar like an eagle! \nWHO CAN PARTICIPATE: Scouts\, Venturers & Arrow of Lights. No Webelo Dens – units can register up to two patrols of eight scout each.\nArrow of Lights must be accompanied by and registered with a Scout Troop! \nWHEN: February 21\, 2026\nTIME: 7:30am-5:00pm\nWHERE: Treasure Valley Scout Reservation\nCOST:\nPatrol Fee………………………….$125.00 per Patrol\, includes up to 8 youth & 2 adults\nExtra Adults ……………………….…………………………………………. $12.00 per adult\nExtra Patches …………………………………………………………………………$4.00 each\nPatrol Fee includes: 10 Klondike Derby Patches\, Coffee/Hot Chocolate for youth and adults\, facility use and all event program supplies. \nFor more details about the event\, please download and read the document below:\n2026 Klondike Derby Registration Packet \nREGISTRATION DEADLINE: Form & Full Fees due February 18th\, 2026 by 4:30pm \nUpdated 2/5/2026
URL:https://events.hnescouting.org/event/soaring-eagle-district-klondike-derby/
LOCATION:Treasure Valley Scout Reservation\, 394 Pleasantdale Rd\, Rutland\, MA\, 01543\, United States
CATEGORIES:Soaring Eagle District
ATTACH;FMTTYPE=image/png:https://events.hnescouting.org/wp-content/uploads/2025/09/SE-Klondike-2026-e1764696046354.png
ORGANIZER;CN="Diane Anderson":MAILTO:missdiane1@aol.com
GEO:42.383516;-71.95463
X-APPLE-STRUCTURED-LOCATION;VALUE=URI;X-ADDRESS=Treasure Valley Scout Reservation 394 Pleasantdale Rd Rutland MA 01543 United States;X-APPLE-RADIUS=500;X-TITLE=394 Pleasantdale Rd:geo:-71.95463,42.383516
END:VEVENT
BEGIN:VEVENT
DTSTART;TZID=America/New_York:20260221T083000
DTEND;TZID=America/New_York:20260221T120000
DTSTAMP:20260419T105833
CREATED:20251017T173452Z
LAST-MODIFIED:20260225T155046Z
UID:10002926-1771662600-1771675200@events.hnescouting.org
SUMMARY:Merit Badge College 2026
DESCRIPTION:REGISTRATION NOW OPEN – PLEASE READ ALL THE INFORMATION BELOW! \nWhere: Quabbin Regional High School\nCost: $18.00\nAttendance: Scouts must attend all three dates to complete the merit badges. \n21-Feb-2026– CANCELLED due to snow storm\n7-Mar-2026\n21-Mar-2026\n4-Apr-2026 (Make up Snow day) \nThe event runs from 8:30am to 12:00pm. Each Scout can sign up to earn TWO merit badges.  Merit Badges are taught in roughly one hour class periods across three Saturday mornings. \nBelow you will find the list of available class options.\nPlease follow the instructions below to complete registration: \n\nScroll down to the ticket options see to see if the badges you want to enroll in have spots available.\nChoose the two merit badges* ($0) and hit the plus button to 1 for each choice.\nNext\, choose the General Admission ticket ($18) and hit the plus button to 1.\nYou will see a total of 3 tickets and the total will be be $18.\nClick on the blue button that says “Get Tickets” and you can proceed to the cart to check out.\nIf you have any questions about registration\, please email michelle.renfrew@scouting.org.\n\n*You will see Communications and Sustainability offered twice below. This just means we have multiple counselors offering the class. Please only choose one of them for one session. \n\n\n\nMerit  Badge\nSession 1\nSession  2\n\n\nAI\nX\nSession 2\n\n\nAutomotive Maintenance\nX\nSession 2\n\n\nCitizenship in the Nation\nSession  1\nSession 2\n\n\nCommunications A\nSession 1\nSession 2\n\n\nCommunications B\nX\nSession 2\n\n\nCybersecurity\nSession  1\nX\n\n\nFirst Aid\nSession  1\nSession 2\n\n\nFishing\nX\nSession 2\n\n\nGeneaology\nX\nSession 2\n\n\nHealth Care Professions\nSession  1\nX\n\n\nJournalism\nSession  1\nX\n\n\nPersonal Management\nSession  1\nX\n\n\nRailroading\nSession  1\nSession 2\n\n\nSalesmanship\nSession  1\nX\n\n\nScouting Heritage\nSession  1\nSession 2\n\n\nSpace Exploration\nX\nSession 2\n\n\nSustainability A\nSession  1\nSession 2\n\n\nSustainability B\nSession  1\nSession 2\n\n\nWeather\nSession  1\nX\n\n\nWelding\nSession  1\nSession 2\n\n\n\n  \nUpdated 1/5/26
URL:https://events.hnescouting.org/event/merit-badge-college-2026/
LOCATION:Quabbin Regional High School\, 872 South Barre St\,\, Barre\, MA\, 01005\, United States
CATEGORIES:Advancement
ATTACH;FMTTYPE=image/jpeg:https://events.hnescouting.org/wp-content/uploads/2019/04/Merit-Badges-SNR-e1632236994349.jpg
ORGANIZER;CN="Michelle Renfrew":MAILTO:michelle.renfrew@scouting.org
END:VEVENT
BEGIN:VEVENT
DTSTART;TZID=America/New_York:20260223T190000
DTEND;TZID=America/New_York:20260223T203000
DTSTAMP:20260419T105833
CREATED:20250929T160241Z
LAST-MODIFIED:20250929T160241Z
UID:10002911-1771873200-1771878600@events.hnescouting.org
SUMMARY:Soaring Eagle District Roundtable - February 2026
DESCRIPTION:February Roundtable Topic: TBD\n\nJoin us for the Quinapoxet District Roundtable: Monday\, February 23rd from 7:00 – 8:30 PM.\nLocation is 200 Sportsman’s Club (184 Sutton Rd.\, 2nd floor\, Webster\, MA). \nThe Soaring Eagle District Roundtable will usually take place monthly\, except for the months of the quarterly Council-Wide Roundtable (October\, January\, April\, June).\nBe sure to check the council calendar for exact date and location of each monthly Roundtable event. \nJoin your fellow Scouters and learn about all the new adventures your unit can plan for your Scouts! \nUpdated 09/29/2025
URL:https://events.hnescouting.org/event/soaring-eagle-district-roundtable-february-2026/
LOCATION:200 Sportsmen Club\, 184 Sutton Rd.\, Webster\, MA\, 01570\, United States
CATEGORIES:Soaring Eagle District
ORGANIZER;CN="Bill Dunbar":MAILTO:bill.dunbar@scouting.org
END:VEVENT
BEGIN:VEVENT
DTSTART;TZID=America/New_York:20260228T090000
DTEND;TZID=America/New_York:20260228T090000
DTSTAMP:20260419T105834
CREATED:20250930T152033Z
LAST-MODIFIED:20260204T173412Z
UID:10002916-1772269200-1772269200@events.hnescouting.org
SUMMARY:Cub Scout Polar Bear Derby
DESCRIPTION:🐾❄️ Calling all Superheroes! ❄️🐾\nGet ready for a frosty adventure at the 2026 Polar Bear Derby!\n💥Theme: Superheroes\n📅 Date: Saturday\, February 28\, 2026\n🕘 Time: 9 AM – 4 PM (AM & PM sessions available)\n📍 Location: Shirley Rod and Gun Club\n💲 Cost: $8 per Scout \nJoin us for a day packed with winter fun\, Scouting spirit\, and outdoor challenges! Dress warm and bring your best Cub Scout energy! 🌨️🔥 \nThere will be a “Pack Snack Competition” during each session. Snacks will be judged\, giving Scouts something fun to share and enjoy.\nWe’ll also be providing hot cocoa throughout the event. \n  \n9/30/2025
URL:https://events.hnescouting.org/event/cub-scout-polar-bear-derby/
LOCATION:Shirley Rod and Gun Club\, Kittridge Rd.\, Shirley\, MA\, 01464\, United States
CATEGORIES:Cub Scout Activities,Quinapoxet District,Soaring Eagle District
END:VEVENT
BEGIN:VEVENT
DTSTART;TZID=America/New_York:20260228T190000
DTEND;TZID=America/New_York:20260301T080000
DTSTAMP:20260419T105834
CREATED:20240828T183936Z
LAST-MODIFIED:20260220T022804Z
UID:10002675-1772305200-1772352000@events.hnescouting.org
SUMMARY:Catamount Lodge Winter Fellowship
DESCRIPTION:Catamount Lodge is hosting an Overnight Winter Fellowship at the \nJoin us for food\, fun and fellowship! \nDATE: Saturday\, February 28\, 2026\, 7:00PM to Sunday\, March 1\, 2026\, 8:00 AM \nWHERE: The School Yahd\, 216 W. Boylston St.\, Suite 400\, West Boylston\, MA \nPRICE: $20 for New Ordeal Members from Spring and Fall of 2025 and $30 for All Other Ordeal\, Brotherhood and Vigil Members. \nSpace is limited for the fellowship – secure your spot now! \nQuestions? Please contact adviser@oacatamount.org \nUpdated 1/13/26
URL:https://events.hnescouting.org/event/catamount-lodge-winter-fellowship-2/
LOCATION:School Yahd\, 216 W Boylston St Suite 400\, West Boylston\, MA\, 018=583\, United States
CATEGORIES:Order of the Arrow
ATTACH;FMTTYPE=image/png:https://events.hnescouting.org/wp-content/uploads/2019/01/OACatamount_S1Flap.png
ORGANIZER;CN="Kevin Fuller":MAILTO:adviser@oacatamount.org
GEO:42.3492965;-71.7875213
X-APPLE-STRUCTURED-LOCATION;VALUE=URI;X-ADDRESS=School Yahd 216 W Boylston St Suite 400 West Boylston MA 018=583 United States;X-APPLE-RADIUS=500;X-TITLE=216 W Boylston St Suite 400:geo:-71.7875213,42.3492965
END:VEVENT
END:VCALENDAR