BEGIN:VCALENDAR
VERSION:2.0
PRODID:-//EVENT REGISTRATION - ECPv6.15.17//NONSGML v1.0//EN
CALSCALE:GREGORIAN
METHOD:PUBLISH
X-WR-CALNAME:EVENT REGISTRATION
X-ORIGINAL-URL:https://events.hnescouting.org
X-WR-CALDESC:Events for EVENT REGISTRATION
REFRESH-INTERVAL;VALUE=DURATION:PT1H
X-Robots-Tag:noindex
X-PUBLISHED-TTL:PT1H
BEGIN:VTIMEZONE
TZID:America/New_York
BEGIN:DAYLIGHT
TZOFFSETFROM:-0500
TZOFFSETTO:-0400
TZNAME:EDT
DTSTART:20250309T070000
END:DAYLIGHT
BEGIN:STANDARD
TZOFFSETFROM:-0400
TZOFFSETTO:-0500
TZNAME:EST
DTSTART:20251102T060000
END:STANDARD
BEGIN:DAYLIGHT
TZOFFSETFROM:-0500
TZOFFSETTO:-0400
TZNAME:EDT
DTSTART:20260308T070000
END:DAYLIGHT
BEGIN:STANDARD
TZOFFSETFROM:-0400
TZOFFSETTO:-0500
TZNAME:EST
DTSTART:20261101T060000
END:STANDARD
BEGIN:DAYLIGHT
TZOFFSETFROM:-0500
TZOFFSETTO:-0400
TZNAME:EDT
DTSTART:20270314T070000
END:DAYLIGHT
BEGIN:STANDARD
TZOFFSETFROM:-0400
TZOFFSETTO:-0500
TZNAME:EST
DTSTART:20271107T060000
END:STANDARD
END:VTIMEZONE
BEGIN:VEVENT
DTSTART;TZID=America/New_York:20260425T073000
DTEND;TZID=America/New_York:20260426T110000
DTSTAMP:20260419T091156
CREATED:20251218T191139Z
LAST-MODIFIED:20260311T142442Z
UID:10002939-1777102200-1777201200@events.hnescouting.org
SUMMARY:BALOO (Basic Adult Leadership Outdoor Orientation)
DESCRIPTION:When: 4/25/2026 -4/26/2026 \nWhere: Treasure Valley Scout Reservation \nCost: $35 \nTrained leaders are critical to the success of Scouting. Every young person involved in the Scouting program needs and deserves a leader who understands the aims of the program and knows how to deliver it with enthusiasm and fun. Trained leaders are more effective at delivering the promise of Scouting because they understand their role\, responsibilities\, and the resources available to them. \nThis is a hands-on informative training weekend that will give you insight to the skills you need to take your Cub Scouts on outdoor events. Participants will be camping at Fort Courage. \nMust be present for the entire event to complete training.   Participants will be responsible for their own personal gear including tent. \nMeals will be provided. \nContact Ed King if you have any questions about the program – ed.king@hnescouting.org \nUpdated 12/18/2025
URL:https://events.hnescouting.org/event/baloo-basic-adult-leadership-outdoor-orientation-april-2026/
LOCATION:Treasure Valley Scout Reservation\, 394 Pleasantdale Rd\, Rutland\, MA\, 01543\, United States
CATEGORIES:Adult Training
ORGANIZER;CN="Ed King":MAILTO:ed.king@hnescouting.org
GEO:42.383516;-71.95463
X-APPLE-STRUCTURED-LOCATION;VALUE=URI;X-ADDRESS=Treasure Valley Scout Reservation 394 Pleasantdale Rd Rutland MA 01543 United States;X-APPLE-RADIUS=500;X-TITLE=394 Pleasantdale Rd:geo:-71.95463,42.383516
END:VEVENT
BEGIN:VEVENT
DTSTART;TZID=America/New_York:20260425T073000
DTEND;TZID=America/New_York:20260426T110000
DTSTAMP:20260419T091156
CREATED:20251218T195626Z
LAST-MODIFIED:20260311T142831Z
UID:10002940-1777102200-1777201200@events.hnescouting.org
SUMMARY:IOLS (Introduction to Outdoor Leadership Skills)
DESCRIPTION:When: 4/25/2026 – 4/26/2026 \nWhere: Treasure Valley Scout Reservation \nCost: $35 \nThis hands-on program gives adult leaders a practical introduction to the patrol method of a Scout-led troop by teaching many of the practical outdoor skills they need to lead Scouts in the out- of-doors. In\naddition\, the teaching methods\, activities\, and games model the variety of teaching used in effective and engaging Scouting programs. \nHands-on participation is the best learning tool\, and this course models the techniques used by effective Scoutmasters\, advisors\, and other leaders in the Scouting program. Attendees will see and\nexperience different aspects of how Scouting works while playing the role of Scouts in a troop. \nParticipants should leave the training experience with a full understanding of how the patrol method operates\, a feeling of comfort in working with and instructing their Scouts\, and an increased level\nof confidence taking Scouts outdoors safely. With that comes great satisfaction. \nMust be present for the entire event to complete training. \nParticipants will be responsible for their own personal gear including tent. \nMeals will be provided \nPlease contact Ed King if you have any specific questions about the program – ed.king@hnescouting.org \nUpdated 12/18/2025
URL:https://events.hnescouting.org/event/iols-introduction-to-outdoor-leadership-skills-april-2026/
LOCATION:Treasure Valley Scout Reservation\, 394 Pleasantdale Rd\, Rutland\, MA\, 01543\, United States
CATEGORIES:Adult Training
ORGANIZER;CN="Ed King":MAILTO:ed.king@hnescouting.org
GEO:42.383516;-71.95463
X-APPLE-STRUCTURED-LOCATION;VALUE=URI;X-ADDRESS=Treasure Valley Scout Reservation 394 Pleasantdale Rd Rutland MA 01543 United States;X-APPLE-RADIUS=500;X-TITLE=394 Pleasantdale Rd:geo:-71.95463,42.383516
END:VEVENT
BEGIN:VEVENT
DTSTART;TZID=America/New_York:20260628T130000
DTEND;TZID=America/New_York:20260703T150000
DTSTAMP:20260419T091156
CREATED:20260122T185706Z
LAST-MODIFIED:20260315T182906Z
UID:10002946-1782651600-1783090800@events.hnescouting.org
SUMMARY:NYLT National Youth Leadership Training 2026
DESCRIPTION:Please note: Registration is to be completed by unit leaders only \nWhat: National Youth Leadership Training (NYLT) is an action-packed program designed to provide youth members with leadership skills and experiences they can use in their troops\, crews\, or ships. It’s a hands on\, how to\, course delivered in a unit and patrol centered\, outdoor setting. \nWho: All participants must be a registered member of a Scouting unit. \nScouts BSA: must be at least 13 and hold the rank of First Class. They must have completed “Introduction to Leadership Skills for Troops”. \nVenturers and Sea Scouts: must be at least 14\, or 13 and have completed eighth grade\, and fall within the maximum age allowance for their program. They must have completed Introduction to Leadership Skills for Crews or Ships. It is recommended that they have had at least one year of camping experience. \nWhen & Where: Pre-course meeting:  \nPlease attend a pre-course meeting at Treasure Valley East Lodge on Thursday\, June 4th\, 2026 at 7:30pm. \nWeeklong Course:  June 28th- July 3rd at Treasure Valley Scout Reservation (limit 48 Scouts) \nCost: $440.00 per Scout (fee includes course materials\, meals\, t-shirt\, and more!) \nUpdated Course Flyer 2026 \nFinancial Aid is available to those who meet the criteria. Please email the course director for more information. \nIf you have any questions\, please do not hesitate to email the Course Director\,  Marie Oprica\,  at marie.oprica@hnescouting.org. \nUpdated 3/5/2026
URL:https://events.hnescouting.org/event/national-youth-leadership-training-2026/
LOCATION:Treasure Valley Scout Reservation\, 394 Pleasantdale Rd\, Rutland\, MA\, 01543\, United States
CATEGORIES:Youth Training
ORGANIZER;CN="Marie Oprica":MAILTO:marie.oprica@hnescouting.org
GEO:42.383516;-71.95463
X-APPLE-STRUCTURED-LOCATION;VALUE=URI;X-ADDRESS=Treasure Valley Scout Reservation 394 Pleasantdale Rd Rutland MA 01543 United States;X-APPLE-RADIUS=500;X-TITLE=394 Pleasantdale Rd:geo:-71.95463,42.383516
END:VEVENT
BEGIN:VEVENT
DTSTART;TZID=America/New_York:20260919T073000
DTEND;TZID=America/New_York:20260920T110000
DTSTAMP:20260419T091156
CREATED:20251218T201101Z
LAST-MODIFIED:20260311T150407Z
UID:10002941-1789803000-1789902000@events.hnescouting.org
SUMMARY:IOLS (Introduction to Outdoor Leadership Skills)
DESCRIPTION:When: 9/19/2026 – 9/20/2026 \nWhere: Treasure Valley Scout Reservation \nCost: $35 \nThis hands-on program gives adult leaders a practical introduction to the patrol method of a Scout-led troop by teaching many of the practical outdoor skills they need to lead Scouts in the out- of-doors. In\naddition\, the teaching methods\, activities\, and games model the variety of teaching used in effective and engaging Scouting programs. \nHands-on participation is the best learning tool\, and this course models the techniques used by effective Scoutmasters\, advisors\, and other leaders in the Scouting program. Attendees will see and\nexperience different aspects of how Scouting works while playing the role of Scouts in a troop. \nParticipants should leave the training experience with a full understanding of how the patrol method operates\, a feeling of comfort in working with and instructing their Scouts\, and an increased level\nof confidence taking Scouts outdoors safely. With that comes great satisfaction. \nMust be present for the entire event to complete training. \nParticipants will be responsible for their own personal gear including tent. \nMeals will be provided \nPlease contact Ed King if you have any specific questions about the program – ed.king@hnescouting.org \nUpdated 12/18/2025
URL:https://events.hnescouting.org/event/iols-introduction-to-outdoor-leadership-skills-2-sept-2026/
LOCATION:Treasure Valley Scout Reservation\, 394 Pleasantdale Rd\, Rutland\, MA\, 01543\, United States
CATEGORIES:Adult Training
ORGANIZER;CN="Ed King":MAILTO:ed.king@hnescouting.org
GEO:42.383516;-71.95463
X-APPLE-STRUCTURED-LOCATION;VALUE=URI;X-ADDRESS=Treasure Valley Scout Reservation 394 Pleasantdale Rd Rutland MA 01543 United States;X-APPLE-RADIUS=500;X-TITLE=394 Pleasantdale Rd:geo:-71.95463,42.383516
END:VEVENT
BEGIN:VEVENT
DTSTART;TZID=America/New_York:20260919T073000
DTEND;TZID=America/New_York:20260920T110000
DTSTAMP:20260419T091156
CREATED:20251218T201451Z
LAST-MODIFIED:20260311T150723Z
UID:10002942-1789803000-1789902000@events.hnescouting.org
SUMMARY:BALOO (Basic Adult Leadership Outdoor Orientation)
DESCRIPTION:When: 9/19/2026 -9/20/2026 \nWhere: Treasure Valley Scout Reservation \nCost: $35 \nTrained leaders are critical to the success of Scouting. Every young person involved in the Scouting program needs and deserves a leader who understands the aims of the program and knows how to deliver it with enthusiasm and fun. Trained leaders are more effective at delivering the promise of Scouting because they understand their role\, responsibilities\, and the resources available to them. \nThis is a hands-on informative training weekend that will give you insight to the skills you need to take your Cub Scouts on outdoor events. Participants will be camping at Fort Courage. \nMust be present for the entire event to complete training.   Participants will be responsible for their own personal gear including tent. \nMeals will be provided. \nContact Ed King if you have any questions about the program – ed.king@hnescouting.org \nUpdated 12/18/2025
URL:https://events.hnescouting.org/event/baloo-basic-adult-leadership-outdoor-orientation-2-sept-2026/
LOCATION:Treasure Valley Scout Reservation\, 394 Pleasantdale Rd\, Rutland\, MA\, 01543\, United States
CATEGORIES:Adult Training
ORGANIZER;CN="Ed King":MAILTO:ed.king@hnescouting.org
GEO:42.383516;-71.95463
X-APPLE-STRUCTURED-LOCATION;VALUE=URI;X-ADDRESS=Treasure Valley Scout Reservation 394 Pleasantdale Rd Rutland MA 01543 United States;X-APPLE-RADIUS=500;X-TITLE=394 Pleasantdale Rd:geo:-71.95463,42.383516
END:VEVENT
BEGIN:VEVENT
DTSTART;VALUE=DATE:20261009
DTEND;VALUE=DATE:20261013
DTSTAMP:20260419T091156
CREATED:20260219T215523Z
LAST-MODIFIED:20260220T170729Z
UID:10002968-1791504000-1791849599@events.hnescouting.org
SUMMARY:New England Range and Target Activities and Angling Education Symposium 2026
DESCRIPTION:Registration is now open for the New England Range and Target Activities and Angling Education Symposium! \nDon’t miss out on the opportunity to attend Scouting America Angling Education\, Range and Target Activities Presentations\, Discussions\, Demonstrations and events along with USA Archery and NRA Training opportunities. \nSpeakers\, demonstrations\, classes and events to be announced soon. \nFor more information and to register\, please see the flyer below.\nSymposium Flyer \nUpdated 2-19-26
URL:https://events.hnescouting.org/event/new-england-range-and-target-activities-angling-education-symposium/
LOCATION:Hidden Valley Scout Camp\, 2 Eileen Shore Rd.\, Gilmanton Iron Works\, NH\, 03837
CATEGORIES:Adult Training
ATTACH;FMTTYPE=image/png:https://events.hnescouting.org/wp-content/uploads/2026/02/Syposium-2026-2-1.png
END:VEVENT
BEGIN:VEVENT
DTSTART;TZID=America/New_York:20261025T100000
DTEND;TZID=America/New_York:20261025T130000
DTSTAMP:20260419T091156
CREATED:20250930T153618Z
LAST-MODIFIED:20260311T151135Z
UID:10002917-1792922400-1792933200@events.hnescouting.org
SUMMARY:Den Chief Training
DESCRIPTION:SAVE THE DATE \nWhen: Sunday\, October 25\, 2026\nTime: 10:00am – 1:00pm\nWhere: Treasure Valley Scout Reservation West: West Lodge\nCourse Fee: $15\nWho can register: Units leaders or parents can register their Scout for this training. \nA Den Chief is a Scout\, Venturer or Sea Scout assisting a Cub Scout den. But the story is far more important than those words suggest as the Den Chief: \nServes as a Scouting role model for the Cub Scouts in the den\, as well as the entire pack; Promotes Scouting in general and the local troop in particular; Encourages the transition of Webelos Scouts into Scouts BSA; Holds a leadership position in the troop or crew\, thus fulfilling an advancement requirement in the unit. \nIn addition\, a trained Den Chief: \nAssists the den leader with planning and conducting den meetings; Understands the Cub Scouting program and the differences between Cub Scouts and other Scouting programs; Understands the den leader’s duties and confidently helps lead portions of the den meeting program; Knows a variety of resources for age-appropriate activities for Cub Scouts in the den; Brings a repertoire of activities that Cub Scouts enjoy. \nThis training is designed to build on each of these ideas using a framework that will allow the new Den Chief\, or perhaps the experienced Den Chief looking for new ideas\, to have fun and learn the role. \nAdult leaders need to make sure the role is seen as important and necessary. In agreeing to accept a Den Chief’s assistance\, they ensure the Den Chief has meaningful opportunities to support the den and assist with activities\, to the best of the Den Chief’s ability. In this way\, the den receives the many benefits of having a Den Chief while the Den Chief has opportunities to learn and grow as a leader and Scout. \nCubmasters request Den Chief help from Scoutmasters\, Crew Advisors or Ship Skippers. These adults need to acknowledge the importance of Den Chiefs before the whole troop\, crew or ship and make sure all members understand that the Den Chief holds a leadership position of responsibility. \nDon’t miss out on this great youth training opportunity! \n9/30/2025
URL:https://events.hnescouting.org/event/den-chief-training-2026/
LOCATION:Treasure Valley Scout Reservation\, 394 Pleasantdale Rd\, Rutland\, MA\, 01543\, United States
CATEGORIES:Training,Youth Training
ATTACH;FMTTYPE=image/jpeg:https://events.hnescouting.org/wp-content/uploads/2023/12/den-chief.jpg
ORGANIZER;CN="Kevin Fuller":MAILTO:adviser@oacatamount.org
GEO:42.383516;-71.95463
X-APPLE-STRUCTURED-LOCATION;VALUE=URI;X-ADDRESS=Treasure Valley Scout Reservation 394 Pleasantdale Rd Rutland MA 01543 United States;X-APPLE-RADIUS=500;X-TITLE=394 Pleasantdale Rd:geo:-71.95463,42.383516
END:VEVENT
END:VCALENDAR