BEGIN:VCALENDAR
VERSION:2.0
PRODID:-//EVENT REGISTRATION - ECPv6.15.17//NONSGML v1.0//EN
CALSCALE:GREGORIAN
METHOD:PUBLISH
X-ORIGINAL-URL:https://events.hnescouting.org
X-WR-CALDESC:Events for EVENT REGISTRATION
REFRESH-INTERVAL;VALUE=DURATION:PT1H
X-Robots-Tag:noindex
X-PUBLISHED-TTL:PT1H
BEGIN:VTIMEZONE
TZID:America/New_York
BEGIN:DAYLIGHT
TZOFFSETFROM:-0500
TZOFFSETTO:-0400
TZNAME:EDT
DTSTART:20250309T070000
END:DAYLIGHT
BEGIN:STANDARD
TZOFFSETFROM:-0400
TZOFFSETTO:-0500
TZNAME:EST
DTSTART:20251102T060000
END:STANDARD
BEGIN:DAYLIGHT
TZOFFSETFROM:-0500
TZOFFSETTO:-0400
TZNAME:EDT
DTSTART:20260308T070000
END:DAYLIGHT
BEGIN:STANDARD
TZOFFSETFROM:-0400
TZOFFSETTO:-0500
TZNAME:EST
DTSTART:20261101T060000
END:STANDARD
BEGIN:DAYLIGHT
TZOFFSETFROM:-0500
TZOFFSETTO:-0400
TZNAME:EDT
DTSTART:20270314T070000
END:DAYLIGHT
BEGIN:STANDARD
TZOFFSETFROM:-0400
TZOFFSETTO:-0500
TZNAME:EST
DTSTART:20271107T060000
END:STANDARD
END:VTIMEZONE
BEGIN:VEVENT
DTSTART;TZID=America/New_York:20260616T083000
DTEND;TZID=America/New_York:20260616T133000
DTSTAMP:20260424T083615
CREATED:20260206T034148Z
LAST-MODIFIED:20260325T132828Z
UID:10002965-1781598600-1781616600@events.hnescouting.org
SUMMARY:Calvin E. Moore Memorial Sporting Clays Classic 2026
DESCRIPTION:June 16\, 2026 will be a bad day to be a clay!\nJoin us on Tuesday June 16th for the 6th annual Calvin E. Moore Memorial Sporting Clays Classic supporting Scouting in Central Massachusetts. The event is generously presented by KLEER and WindsorONE and their parent company Westlake Royal Building Products. \nThe invitational shoot brings together sporting enthusiasts for a morning of camaraderie\, while raising money to extend Scouting programs for local\, at-risk youth\, and to support shooting sports safety education programs at our premier facilities. Participants enjoy breakfast\, a challenging clays rotation with contests on the course\, followed by a sumptuous buffet meal with chances to win amazing auction and raffle prizes. All in support of youth character and leadership development programs for the next generation of leaders. \nSponsorship Opportunities: (scroll down for details) \nSOLD! Presenting (10 gauge) Sponsor $5\,000\nElite (12 gauge) Sponsor $3\,500\nChampion (16 gauge) Sponsor $2\,500\nPartner (20 gauge) Sponsor $1\,500\nTeam Entry $600\nStation (410 gauge) Sponsor $300\nIndividual Shooter $180 \n2026 EVENT FLYER  \nTHANK YOU TO OUR 2026 PARTNERS! \n  \n\n \n \n \n \n \n \n  \nCalvin E. Moore\, a longtime council board member\, proud Scouting supporter\, and community leader\, passed away on June 7\, 2024. He is survived by his three children – C.J.\, Todd\, and Chelsie – and seven grandchildren.  \nFrom an early age\, Calvin was involved in the Boy Scouts of America. He was a Scout in Troop 3 Ayer and spent many summers at Camp Wanocksett as a camper. In his adult life\, he and his father helped fund and build various camp structures. He was the fifth generation to run the family business\, leading its expansion to multiple locations. He served on the Nashua Valley Council Executive Board\, and continued on the board after a merger which formed the Heart of New England Council. \nCalvin never passed up the opportunity for adventure and had a passion for many outdoor pursuits including hunting and fishing. He was a Life member of Safari Club International and served as president of the New England chapter. In honor of his commitment to Scouting and to shooting sports\, Heart of New England Council is proud to rename its annual Sporting Clays Classic in Calvin’s memory. \nFor more information or any questions about this event\, please contact Development@hnescouting.org \nThe Heart of New England Council\, Scouting America serves over 4\,000 boys and girls in over 60 communities in Central Massachusetts\, through the support and leadership of more than 1\,800 trained adult volunteers. The Heart of New England Council is a registered 501(c)(3) not-for-profit organization. \nUpdated 02/16/2026
URL:https://events.hnescouting.org/event/calvin-moore-memorial-sporting-clays-2026/
LOCATION:Minute Man Sportsman’s Club\, 56R Francis Wyman Road\, Burlington\, MA\, 01803\, United States
CATEGORIES:Community Event,Council Activities,Special Event
ORGANIZER;CN="Patrick Hanrahan":MAILTO:development@hnescouting.org
END:VEVENT
END:VCALENDAR