BEGIN:VCALENDAR
VERSION:2.0
PRODID:-//EVENT REGISTRATION - ECPv6.15.17//NONSGML v1.0//EN
CALSCALE:GREGORIAN
METHOD:PUBLISH
X-ORIGINAL-URL:https://events.hnescouting.org
X-WR-CALDESC:Events for EVENT REGISTRATION
REFRESH-INTERVAL;VALUE=DURATION:PT1H
X-Robots-Tag:noindex
X-PUBLISHED-TTL:PT1H
BEGIN:VTIMEZONE
TZID:America/New_York
BEGIN:DAYLIGHT
TZOFFSETFROM:-0500
TZOFFSETTO:-0400
TZNAME:EDT
DTSTART:20250309T070000
END:DAYLIGHT
BEGIN:STANDARD
TZOFFSETFROM:-0400
TZOFFSETTO:-0500
TZNAME:EST
DTSTART:20251102T060000
END:STANDARD
BEGIN:DAYLIGHT
TZOFFSETFROM:-0500
TZOFFSETTO:-0400
TZNAME:EDT
DTSTART:20260308T070000
END:DAYLIGHT
BEGIN:STANDARD
TZOFFSETFROM:-0400
TZOFFSETTO:-0500
TZNAME:EST
DTSTART:20261101T060000
END:STANDARD
BEGIN:DAYLIGHT
TZOFFSETFROM:-0500
TZOFFSETTO:-0400
TZNAME:EDT
DTSTART:20270314T070000
END:DAYLIGHT
BEGIN:STANDARD
TZOFFSETFROM:-0400
TZOFFSETTO:-0500
TZNAME:EST
DTSTART:20271107T060000
END:STANDARD
END:VTIMEZONE
BEGIN:VEVENT
DTSTART;TZID=America/New_York:20260810T074500
DTEND;TZID=America/New_York:20260810T150000
DTSTAMP:20260424T050256
CREATED:20260228T165758Z
LAST-MODIFIED:20260316T210507Z
UID:10002971-1786347900-1786374000@events.hnescouting.org
SUMMARY:Investment in Leadership Golf Classic 2026
DESCRIPTION:Great Golf. Great Cause. Great Impact.\n\n\n\n\n\nJoin us for an unforgettable day on the green at the Investment in Leadership Golf Classic\, where every swing supports the future of Scouting in Central Massachusetts!\n\n\n\n\n\nThis isn’t just a round of golf — it’s a full day of fun\, friendly competition\, and purpose. Test your skills with on-course contests\, including closest-to-the-pin\, longest drive\, hole-in-one challenges\, and more. Incredible luxury prizes await the winners — and a few lucky raffle ticket holders\, too! \nAfter the final putt drops\, gather with fellow golfers and supporters for a banquet celebration featuring a delicious meal\, great company\, and a brief program showcasing the impact your support makes. \nYour participation directly helps us expand Scouting programs\, reach more youth\, and provide life-changing experiences rooted in leadership\, service\, and adventure. \nMonday August 10\, 2026 / Shining Rock Golf Club  \n7:45 AM Breakfast & Welcome  /  9:00 AM Shotgun Start\nBanquet Meal & Awards Reception following the round. Auction\, raffle prizes and more! \nSponsorship Packages  & Registration Opens February 28th! (scroll down for details) \nMost registrations and sponsorship packages include all on-course contests during the event.  An exotic weeklong vacation could be yours or you might win one of the guaranteed prizes such as a resort stay. \n\n\n\n\n\nShining Rock Golf Club\n91 Clubhouse Lane \nNorthbridge\, MA 01534\n\nUpdated 02/24/202pat6
URL:https://events.hnescouting.org/event/2026golfclassic/
LOCATION:Shining Rock Golf Club\, 91 Clubhouse Lane\, Northbridge\, MA\, 01534\, United States
CATEGORIES:Calendar Import,Community Event,Council Activities,Special Event
ORGANIZER;CN="Patrick Hanrahan":MAILTO:development@hnescouting.org
END:VEVENT
END:VCALENDAR