BEGIN:VCALENDAR
VERSION:2.0
PRODID:-//EVENT REGISTRATION - ECPv6.15.17//NONSGML v1.0//EN
CALSCALE:GREGORIAN
METHOD:PUBLISH
X-ORIGINAL-URL:https://events.hnescouting.org
X-WR-CALDESC:Events for EVENT REGISTRATION
REFRESH-INTERVAL;VALUE=DURATION:PT1H
X-Robots-Tag:noindex
X-PUBLISHED-TTL:PT1H
BEGIN:VTIMEZONE
TZID:America/New_York
BEGIN:DAYLIGHT
TZOFFSETFROM:-0500
TZOFFSETTO:-0400
TZNAME:EDT
DTSTART:20250309T070000
END:DAYLIGHT
BEGIN:STANDARD
TZOFFSETFROM:-0400
TZOFFSETTO:-0500
TZNAME:EST
DTSTART:20251102T060000
END:STANDARD
BEGIN:DAYLIGHT
TZOFFSETFROM:-0500
TZOFFSETTO:-0400
TZNAME:EDT
DTSTART:20260308T070000
END:DAYLIGHT
BEGIN:STANDARD
TZOFFSETFROM:-0400
TZOFFSETTO:-0500
TZNAME:EST
DTSTART:20261101T060000
END:STANDARD
BEGIN:DAYLIGHT
TZOFFSETFROM:-0500
TZOFFSETTO:-0400
TZNAME:EDT
DTSTART:20270314T070000
END:DAYLIGHT
BEGIN:STANDARD
TZOFFSETFROM:-0400
TZOFFSETTO:-0500
TZNAME:EST
DTSTART:20271107T060000
END:STANDARD
END:VTIMEZONE
BEGIN:VEVENT
DTSTART;TZID=America/New_York:20260228T090000
DTEND;TZID=America/New_York:20260228T090000
DTSTAMP:20260419T145824
CREATED:20250930T152033Z
LAST-MODIFIED:20260204T173412Z
UID:10002916-1772269200-1772269200@events.hnescouting.org
SUMMARY:Cub Scout Polar Bear Derby
DESCRIPTION:🐾❄️ Calling all Superheroes! ❄️🐾\nGet ready for a frosty adventure at the 2026 Polar Bear Derby!\n💥Theme: Superheroes\n📅 Date: Saturday\, February 28\, 2026\n🕘 Time: 9 AM – 4 PM (AM & PM sessions available)\n📍 Location: Shirley Rod and Gun Club\n💲 Cost: $8 per Scout \nJoin us for a day packed with winter fun\, Scouting spirit\, and outdoor challenges! Dress warm and bring your best Cub Scout energy! 🌨️🔥 \nThere will be a “Pack Snack Competition” during each session. Snacks will be judged\, giving Scouts something fun to share and enjoy.\nWe’ll also be providing hot cocoa throughout the event. \n  \n9/30/2025
URL:https://events.hnescouting.org/event/cub-scout-polar-bear-derby/
LOCATION:Shirley Rod and Gun Club\, Kittridge Rd.\, Shirley\, MA\, 01464\, United States
CATEGORIES:Cub Scout Activities,Quinapoxet District,Soaring Eagle District
END:VEVENT
BEGIN:VEVENT
DTSTART;TZID=America/New_York:20260228T190000
DTEND;TZID=America/New_York:20260301T080000
DTSTAMP:20260419T145824
CREATED:20240828T183936Z
LAST-MODIFIED:20260220T022804Z
UID:10002675-1772305200-1772352000@events.hnescouting.org
SUMMARY:Catamount Lodge Winter Fellowship
DESCRIPTION:Catamount Lodge is hosting an Overnight Winter Fellowship at the \nJoin us for food\, fun and fellowship! \nDATE: Saturday\, February 28\, 2026\, 7:00PM to Sunday\, March 1\, 2026\, 8:00 AM \nWHERE: The School Yahd\, 216 W. Boylston St.\, Suite 400\, West Boylston\, MA \nPRICE: $20 for New Ordeal Members from Spring and Fall of 2025 and $30 for All Other Ordeal\, Brotherhood and Vigil Members. \nSpace is limited for the fellowship – secure your spot now! \nQuestions? Please contact adviser@oacatamount.org \nUpdated 1/13/26
URL:https://events.hnescouting.org/event/catamount-lodge-winter-fellowship-2/
LOCATION:School Yahd\, 216 W Boylston St Suite 400\, West Boylston\, MA\, 018=583\, United States
CATEGORIES:Order of the Arrow
ATTACH;FMTTYPE=image/png:https://events.hnescouting.org/wp-content/uploads/2019/01/OACatamount_S1Flap.png
ORGANIZER;CN="Kevin Fuller":MAILTO:adviser@oacatamount.org
GEO:42.3492965;-71.7875213
X-APPLE-STRUCTURED-LOCATION;VALUE=URI;X-ADDRESS=School Yahd 216 W Boylston St Suite 400 West Boylston MA 018=583 United States;X-APPLE-RADIUS=500;X-TITLE=216 W Boylston St Suite 400:geo:-71.7875213,42.3492965
END:VEVENT
END:VCALENDAR