BEGIN:VCALENDAR
VERSION:2.0
PRODID:-//EVENT REGISTRATION - ECPv6.15.17//NONSGML v1.0//EN
CALSCALE:GREGORIAN
METHOD:PUBLISH
X-WR-CALNAME:EVENT REGISTRATION
X-ORIGINAL-URL:https://events.hnescouting.org
X-WR-CALDESC:Events for EVENT REGISTRATION
REFRESH-INTERVAL;VALUE=DURATION:PT1H
X-Robots-Tag:noindex
X-PUBLISHED-TTL:PT1H
BEGIN:VTIMEZONE
TZID:America/New_York
BEGIN:DAYLIGHT
TZOFFSETFROM:-0500
TZOFFSETTO:-0400
TZNAME:EDT
DTSTART:20240310T070000
END:DAYLIGHT
BEGIN:STANDARD
TZOFFSETFROM:-0400
TZOFFSETTO:-0500
TZNAME:EST
DTSTART:20241103T060000
END:STANDARD
BEGIN:DAYLIGHT
TZOFFSETFROM:-0500
TZOFFSETTO:-0400
TZNAME:EDT
DTSTART:20250309T070000
END:DAYLIGHT
BEGIN:STANDARD
TZOFFSETFROM:-0400
TZOFFSETTO:-0500
TZNAME:EST
DTSTART:20251102T060000
END:STANDARD
BEGIN:DAYLIGHT
TZOFFSETFROM:-0500
TZOFFSETTO:-0400
TZNAME:EDT
DTSTART:20260308T070000
END:DAYLIGHT
BEGIN:STANDARD
TZOFFSETFROM:-0400
TZOFFSETTO:-0500
TZNAME:EST
DTSTART:20261101T060000
END:STANDARD
END:VTIMEZONE
BEGIN:VEVENT
DTSTART;VALUE=DATE:20250810
DTEND;VALUE=DATE:20250817
DTSTAMP:20260421T185530
CREATED:20250114T142032Z
LAST-MODIFIED:20250613T134157Z
UID:10002771-1754784000-1755388799@events.hnescouting.org
SUMMARY:CW Webelos Resident Camp 2025
DESCRIPTION:Session 1\, Session 2 and Session 1 Add on option\nCub Scouts will be under the supervision experienced\, trained Camp Wanocksett camp staff. They will experience a program packed with fun that will give them a taste of what they have to look forward to at summer camp when they join a Scouts BSA troop. \nYour Scout will have the choice to attend a half week session or choose to add on to session 1 and stay the full week. The session dates are as follows: \nSession 1 $415 – Sunday through Wednesday\, August 10-13\nAdd on to Session 1 for a full week experience – Add on cost is $145 \nSession 2 $415 – Wednesday through Saturday\, August 13-16 \nTwo Deep Leadership: We will be looking for 21+ registered adults to supervise the Scouts during their stay. If you are interested in volunteering\, please check the volunteer box in the ticket collection information. \nRefunds:\nPlease read our refund policy before completing the registration by clicking on the following link.\nHNE Summer Camp Refund Policy\n\nUpdated 1/14/24
URL:https://events.hnescouting.org/event/cw-webelos-resident-camp-2025/
LOCATION:Camp Wanocksett\, 642 Upper Jaffrey Rd\, Dublin\, NH\, 03444\, United States
CATEGORIES:Cub Scout Activities,Webelos Resident Camp
ATTACH;FMTTYPE=image/png:https://events.hnescouting.org/wp-content/uploads/2023/01/CSAC-Logo-2022-768x552-1-e1672615843610.png
ORGANIZER;CN="Jacob Rodger":MAILTO:webelos@campwanocksett.org
GEO:42.867467;-72.056698
X-APPLE-STRUCTURED-LOCATION;VALUE=URI;X-ADDRESS=Camp Wanocksett 642 Upper Jaffrey Rd Dublin NH 03444 United States;X-APPLE-RADIUS=500;X-TITLE=642 Upper Jaffrey Rd:geo:-72.056698,42.867467
END:VEVENT
BEGIN:VEVENT
DTSTART;TZID=America/New_York:20250810T140000
DTEND;TZID=America/New_York:20250816T100000
DTSTAMP:20260421T185530
CREATED:20250714T002156Z
LAST-MODIFIED:20250714T003848Z
UID:10002874-1754834400-1755338400@events.hnescouting.org
SUMMARY:Camp Wanocksett Provisional 2025 - Week 7
DESCRIPTION:Scouts attending Camp Wanocksett with their troop or crew will register and pay through the unit. Scouts in our Provisional program who cannot attend with their unit\, or who wish to attend additional weeks\, may use the options below to register and pay online. Provo registration fee is $565. \nUpon arrival\, Scouts will pull into the parking lot and meet the provisional Scoutmasters  by Memorial Lodge\, the brown building right off of the parking lot. Along with any personal gear needed for the week\, please have a filled out medical form ready\, if not already mailed in. If you would like to mail your medical form to camp after June 15\, you can do so by sending it to: \nCamp Wanocksett\nAttn: Camp Nurse\n642 Upper Jaffrey Rd.\nDublin\, NH 03444 \nPlease label the medical form with the week that your Scout will be attending as well as the word “Provo”. \nIf your Scout attended an earlier week of camp this summer\, we will still have their medical form on file; simply tell the Scoutmasters this when you arrive. Merit badges do not need to be pre-selected prior to arrival\, as the Scoutmasters will take time to register them during the camp check-in process. All Scouts are guaranteed their first choice in badges. If you have any further questions\, please do not hesitate to reach out by emailing info@campwanocksett.org.
URL:https://events.hnescouting.org/event/camp-wanocksett-provisional-2025-week-7/
LOCATION:Camp Wanocksett\, 642 Upper Jaffrey Rd\, Dublin\, NH\, 03444\, United States
CATEGORIES:Scouts BSA Camp,Scouts BSA Provo,Summer Camp
ATTACH;FMTTYPE=image/png:https://events.hnescouting.org/wp-content/uploads/2019/02/CWNewLogo.png
ORGANIZER;CN="Dan Megan - Camp Director":MAILTO:director@campwanocksett.org
GEO:42.867467;-72.056698
X-APPLE-STRUCTURED-LOCATION;VALUE=URI;X-ADDRESS=Camp Wanocksett 642 Upper Jaffrey Rd Dublin NH 03444 United States;X-APPLE-RADIUS=500;X-TITLE=642 Upper Jaffrey Rd:geo:-72.056698,42.867467
END:VEVENT
END:VCALENDAR